Workbook

Sheet 총괄
A2: 시설업무 컨설팅 현황(2026년)
B4: 지역 | C4: 개수 | D4: 비율 | F4: 공종 | G4: 개수 | H4: 비율 | J4: 방법 | K4: 개수 | L4: 비율 | N4: 구분 | O4: 개수
B5: 동부 | C5: =COUNTIF(내역!$C$13:C2013, "동부") -> 56 | D5: =C5/SUM($C$5:$C$9) -> 0.36842105 | F5: 건축 | G5: =COUNTIF(내역!$G$13:G2013, "건축") -> 96 | H5: =G5/SUM($G$5:$G$8) -> 0.63157895 | J5: 내역검토 | K5: =COUNTIF(내역!$B$13:B2013, "내역검토") -> 151 | L5: =K5/SUM($K$5:$K$6) -> 0.99342105 | N5: 총계 | O5: =SUM(G5:G8) -> 152
B6: 서부 | C6: =COUNTIF(내역!$C$13:C2014, "서부") -> 34 | D6: =C6/SUM($C$5:$C$9) -> 0.22368421 | F6: 토목 | G6: =COUNTIF(내역!$G$13:G2014, "토목") -> 6 | H6: =G6/SUM($G$5:$G$8) -> 0.039473684 | J6: 현장지원 | K6: =COUNTIF(내역!$B$13:B2014, "현장지원") -> 1 | L6: =K6/SUM($K$5:$K$6) -> 0.0065789474 | N6: 완료 | O6: =COUNTIF(내역!L$13:$N2014, "완료") -> 152
B7: 남부 | C7: =COUNTIF(내역!$C$13:C2015, "남부") -> 43 | D7: =C7/SUM($C$5:$C$9) -> 0.28289474 | F7: 기계 | G7: =COUNTIF(내역!$G$13:G2015, "기계") -> 7 | H7: =G7/SUM($G$5:$G$8) -> 0.046052632 | J7: 합계 | K7: =SUM(K5:K6) -> 152 | L7: =K7/SUM($K$5:$K$6) -> 1 | N7: 처리중 | O7: =COUNTIF(내역!L$13:$N2015, "처리중") -> 0
B8: 북부 | C8: =COUNTIF(내역!$C$13:C2016, "북부") -> 19 | D8: =C8/SUM($C$5:$C$9) -> 0.125 | F8: 전기 | G8: =COUNTIF(내역!$G$13:G2016, "전기") -> 43 | H8: =G8/SUM($G$5:$G$8) -> 0.28289474
B9: 강화 | C9: =COUNTIF(내역!$C$13:C2017, "강화") -> 0 | D9: =C9/SUM($C$5:$C$9) -> 0 | F9: 합계 | G9: =SUM(G5:G8) -> 152 | H9: =G9/SUM($G$5:$G$8) -> 1
B10: 합계 | C10: =SUM(C5:C9) -> 152 | D10: =C10/SUM($C$5:$C$9) -> 1
B12: 월 공종 | C12: 1월 | D12: 2월 | E12: 3월 | F12: 4월 | G12: 5월 | H12: 6월 | I12: 7월 | J12: 8월 | K12: 9월 | L12: 10월 | M12: 11월 | N12: 12월 | O12: 계
B13: 건축 | C13: =COUNTIF(내역!$G$13:$G$164, "건축") -> 96 | O13: =SUM(C13:N13) -> 96
B14: 토목 | C14: =COUNTIF(내역!$G$13:$G$164, "토목") -> 6 | O14: =SUM(C14:N14) -> 6
B15: 기계 | C15: =COUNTIF(내역!$G$13:$G$164, "기계") -> 7 | O15: =SUM(C15:N15) -> 7
B16: 전기 | C16: =COUNTIF(내역!$G$13:$G$164, "전기") -> 43 | O16: =SUM(C16:N16) -> 43
B17: 합계 | C17: =SUM(C13:C16) -> 152 | D17: =SUM(D13:D16) -> 0 | E17: =SUM(E13:E16) -> 0 | F17: =SUM(F13:F16) -> 0 | G17: =SUM(G13:G16) -> 0 | H17: =SUM(H13:H16) -> 0 | I17: =SUM(I13:I16) -> 0 | J17: =SUM(J13:J16) -> 0 | ... O17: =SUM(O13:O16) -> 152

Sheet 내역
A2: 시설업무 컨설팅 현황(2026년)-현장지원포함
A4: 지역 | B4: 개수 | C4: 공종 | D4: 개수 | E4: 방법 | F4: 개수 | G4: 구분 | H4: 개수
A5: 동부 | B5: =COUNTIF($C$13:$C$1349, "동부") -> 56 | C5: 건축 | D5: =COUNTIF($G$13:$G$1349, "건축") -> 96 | E5: 내역검토 | F5: =COUNTIF($B$13:$B$1349, "내역검토") -> 151 | G5: 총 계 | H5: =SUM(D5:D9) -> 152
A6: 서부 | B6: =COUNTIF($C$13:$C$1349, "서부") -> 34 | C6: 토목 | D6: =COUNTIF($G$13:$G$1349, "토목") -> 6 | E6: 현장지원 | F6: =COUNTIF($B$13:$B$1349, "현장지원") -> 1 | G6: 완료 | H6: =COUNTIF($N$13:$N$1349, "완료") -> 152
A7: 남부 | B7: =COUNTIF($C$13:$C$1349, "남부") -> 43 | C7: 기계 | D7: =COUNTIF($G$13:$G$1349, "기계") -> 7 | G7: 처리중 | H7: =COUNTIF($N$13:$N$1349, "처리중") -> 0
A8: 북부 | B8: =COUNTIF($C$13:$C$1349, "북부") -> 19 | C8: 전기 | D8: =COUNTIF($G$13:$G$1349, "전기") -> 43
A9: 강화 | B9: =COUNTIF($C$13:$C$1349, "강화") -> 0
A11: =SUBTOTAL(3,A13:A1228) -> 152
A12: 연번 | B12: 지원방법 | C12: 관할교육청 | D12: 설립별 | E12: 급별 | F12: 학교명 | G12: 요청분야 | H12: 요청공사금액(원) | I12: 제목 | J12: 요청일 | K12: 요일 | L12: 처리일 | M12: 요일 | N12: 처리현황 | O12: 처리일수 (공휴일 포함) | P12: 비고
A13: 1 | B13: 내역검토 | C13: 동부 | D13: 공립 | E13: 중학교 | F13: 구월중학교 | G13: 건축 | H13: 22000000 | I13: 화장실 칸막이 교체공사 | J13: 46024 | K13: 금 | L13: 46029 | M13: 수 | N13: 완료 | O13: =L13-J13+1 -> 6
A14: 2 | B14: 내역검토 | C14: 서부 | D14: 공립 | E14: 중학교 | F14: 원당중학교 | G14: 건축 | H14: 14982000 | I14: 특수학급 증설 환경개선공사 | J14: 46027 | K14: 월 | L14: 46031 | M14: 금 | N14: 완료 | O14: =L14-J14+1 -> 5
A15: 3 | B15: 내역검토 | C15: 서부 | D15: 공립 | E15: 초등학교 | F15: 인천청람초등학교 | G15: 건축 | H15: 14000000 | I15: 돌봄교실 환경개선공사 | J15: 46027 | K15: 월 | L15: 46031 | M15: 금 | N15: 완료 | O15: =L15-J15+1 -> 5
A16: 4 | B16: 내역검토 | C16: 서부 | D16: 공립 | E16: 중학교 | F16: 신현중학교 | G16: 건축 | H16: 25969000 | I16: 특수학급 증설 및 체력단련실 환경개선공사 | J16: 46027 | K16: 월 | L16: 46031 | M16: 금 | N16: 완료 | O16: =L16-J16+1 -> 5
A17: 5 | B17: 내역검토 | C17: 남부 | D17: 공립 | E17: 유치원 | F17: 인천용유초등학교병설유치원 | G17: 건축 | H17: 55182000 | I17: 유치원 환경개선공사 | J17: 46027 | K17: 월 | L17: 46029 | M17: 수 | N17: 완료 | O17: =L17-J17+1 -> 3
A18: 6 | B18: 내역검토 | C18: 북부 | D18: 공립 | E18: 초등학교 | F18: 인천한길초등학교 | G18: 전기 | H18: 4920000 | I18: 특수학급 증설 전기 공사 | J18: 46027 | K18: 월 | L18: 46031 | M18: 금 | N18: 완료 | O18: =L18-J18+1 -> 5
A19: 7 | B19: 내역검토 | C19: 북부 | D19: 공립 | E19: 초등학교 | F19: 인천한길초등학교 | G19: 건축 | H19: 37170800 | I19: 특수학급 증설 및 늘봄지원실 환경개선공사 | J19: 46027 | K19: 월 | L19: 46031 | M19: 금 | N19: 완료 | O19: =L19-J19+1 -> 5
A20: 8 | B20: 내역검토 | C20: 남부 | D20: 공립 | E20: 고등학교 | F20: 인천영종고등학교 | G20: 건축 | H20: 16852000 | I20: 특수학급 환경개선공사 | J20: 46028 | K20: 화 | L20: 46031 | M20: 금 | N20: 완료 | O20: =L20-J20+1 -> 4
A21: 9 | B21: 내역검토 | C21: 남부 | D21: 공립 | E21: 초등학교 | F21: 인천하늘초등학교 | G21: 건축 | H21: 52160000 | I21: 특수학급 증설 및 관리실 이전 공사 | J21: 46028 | K21: 화 | L21: 46029 | M21: 수 | N21: 완료 | O21: =L21-J21+1 -> 2
A22: 10 | B22: 내역검토 | C22: 동부 | D22: 공립 | E22: 고등학교 | F22: 인천생활과학고등학교 | G22: 건축 | H22: 7247000 | I22: 인성교육부 개선공사 | J22: 46028 | K22: 화 | L22: 46029 | M22: 수 | N22: 완료 | O22: =L22-J22+1 -> 2
A23: 11 | B23: 내역검토 | C23: 동부 | D23: 공립 | E23: 고등학교 | F23: 인천논현고등학교 | G23: 건축 | H23: 18489000 | I23: 특수학급 환경개선공사 | J23: 46028 | K23: 화 | L23: 46031 | M23: 금 | N23: 완료 | O23: =L23-J23+1 -> 4
A24: 12 | B24: 내역검토 | C24: 북부 | D24: 공립 | E24: 중학교 | F24: 부흥중학교 | G24: 건축 | H24: 44704000 | I24: 특수학급 환경개선공사 | J24: 46028 | K24: 화 | L24: 46030 | M24: 목 | N24: 완료 | O24: =L24-J24+1 -> 3
... A164: 152 | B164: 내역검토 | C164: 남부 | D164: 공립 | E164: 고등학교 | F164: 인천반도체고등학교 | G164: 전기 | H164: 20000000 | I164: 홍보관 및 샤워장 전기공사 | J164: 46052 | K164: 금 | L164: 46056 | M164: 화 | N164: 완료 | O164: =L164-J164+1 -> 5
